BEGIN:VCALENDAR
VERSION:2.0
PRODID:-//Crestview Golf Club - ECPv6.15.18//NONSGML v1.0//EN
CALSCALE:GREGORIAN
METHOD:PUBLISH
X-ORIGINAL-URL:https://www.crestviewgolf.net
X-WR-CALDESC:Events for Crestview Golf Club
REFRESH-INTERVAL;VALUE=DURATION:PT1H
X-Robots-Tag:noindex
X-PUBLISHED-TTL:PT1H
BEGIN:VTIMEZONE
TZID:America/New_York
BEGIN:DAYLIGHT
TZOFFSETFROM:-0500
TZOFFSETTO:-0400
TZNAME:EDT
DTSTART:20240310T070000
END:DAYLIGHT
BEGIN:STANDARD
TZOFFSETFROM:-0400
TZOFFSETTO:-0500
TZNAME:EST
DTSTART:20241103T060000
END:STANDARD
BEGIN:DAYLIGHT
TZOFFSETFROM:-0500
TZOFFSETTO:-0400
TZNAME:EDT
DTSTART:20250309T070000
END:DAYLIGHT
BEGIN:STANDARD
TZOFFSETFROM:-0400
TZOFFSETTO:-0500
TZNAME:EST
DTSTART:20251102T060000
END:STANDARD
BEGIN:DAYLIGHT
TZOFFSETFROM:-0500
TZOFFSETTO:-0400
TZNAME:EDT
DTSTART:20260308T070000
END:DAYLIGHT
BEGIN:STANDARD
TZOFFSETFROM:-0400
TZOFFSETTO:-0500
TZNAME:EST
DTSTART:20261101T060000
END:STANDARD
END:VTIMEZONE
BEGIN:VTIMEZONE
TZID:UTC
BEGIN:STANDARD
TZOFFSETFROM:+0000
TZOFFSETTO:+0000
TZNAME:UTC
DTSTART:20240101T000000
END:STANDARD
END:VTIMEZONE
BEGIN:VEVENT
DTSTART;TZID=America/New_York:20250315T190000
DTEND;TZID=America/New_York:20250315T210000
DTSTAMP:20260421T082839
CREATED:20250204T051956Z
LAST-MODIFIED:20250313T171811Z
UID:10000003-1742065200-1742072400@www.crestviewgolf.net
SUMMARY:Music on the Range (Inside): Matt Osborne
DESCRIPTION:This is the first of our 2025 Music on the Range series! This one will be indoors. \nJoin us on Saturday\, March 15\, and enjoy live music from Matt Osborne! \nThis is also in conjunction with our St. Patrick’s Day party! \nWe hope to see you there!
URL:https://www.crestviewgolf.net/event/music-on-the-range-inside-matt-osborne/
LOCATION:Mulligans
END:VEVENT
BEGIN:VEVENT
DTSTART;TZID=UTC:20250315T110000
DTEND;TZID=UTC:20250315T210000
DTSTAMP:20260421T082839
CREATED:20250313T172057Z
LAST-MODIFIED:20250313T172057Z
UID:10000021-1742036400-1742072400@www.crestviewgolf.net
SUMMARY:St. Patrick's Day Party
DESCRIPTION:We are having a party on Saturday\, March 15 starting at 11am with food and drink specials all day and live music that evening!
URL:https://www.crestviewgolf.net/event/st-patricks-day-party/
LOCATION:Mulligans
END:VEVENT
END:VCALENDAR