BEGIN:VCALENDAR
VERSION:2.0
PRODID:-//Crestview Golf Club - ECPv6.15.18//NONSGML v1.0//EN
CALSCALE:GREGORIAN
METHOD:PUBLISH
X-WR-CALNAME:Crestview Golf Club
X-ORIGINAL-URL:https://www.crestviewgolf.net
X-WR-CALDESC:Events for Crestview Golf Club
REFRESH-INTERVAL;VALUE=DURATION:PT1H
X-Robots-Tag:noindex
X-PUBLISHED-TTL:PT1H
BEGIN:VTIMEZONE
TZID:UTC
BEGIN:STANDARD
TZOFFSETFROM:+0000
TZOFFSETTO:+0000
TZNAME:UTC
DTSTART:20250101T000000
END:STANDARD
END:VTIMEZONE
BEGIN:VEVENT
DTSTART;TZID=UTC:20261202T193000
DTEND;TZID=UTC:20261202T213000
DTSTAMP:20260423T120320
CREATED:20260331T133827Z
LAST-MODIFIED:20260331T133827Z
UID:10000464-1796239800-1796247000@www.crestviewgolf.net
SUMMARY:Wednesday Night Clickbait Trivia
DESCRIPTION:Join us at Mulligans Clubhouse Grill every Wednesday for Clickbait Trivia\, hosted by Mikey Mason. It’s the perfect way to unwind\, have some fun\, and test your knowledge with friends! \nTime: 7:30 PM – 9:30 PM\nWhen: Every Wednesday\nWhere: Mulligans Clubhouse Grill \nGather your team\, order your favorite food and drinks\, and get ready for a lively night of trivia\, laughs\, and friendly competition. Whether you’re playing to win or just along for the fun\, Clickbait Trivia Night is a great way to spend your Wednesday evening. \nWe’ll see you there!
URL:https://www.crestviewgolf.net/event/wednesday-night-clickbait-trivia-14/2026-12-02/
END:VEVENT
BEGIN:VEVENT
DTSTART;TZID=UTC:20261209T193000
DTEND;TZID=UTC:20261209T213000
DTSTAMP:20260423T120320
CREATED:20260331T133827Z
LAST-MODIFIED:20260331T133827Z
UID:10000465-1796844600-1796851800@www.crestviewgolf.net
SUMMARY:Wednesday Night Clickbait Trivia
DESCRIPTION:Join us at Mulligans Clubhouse Grill every Wednesday for Clickbait Trivia\, hosted by Mikey Mason. It’s the perfect way to unwind\, have some fun\, and test your knowledge with friends! \nTime: 7:30 PM – 9:30 PM\nWhen: Every Wednesday\nWhere: Mulligans Clubhouse Grill \nGather your team\, order your favorite food and drinks\, and get ready for a lively night of trivia\, laughs\, and friendly competition. Whether you’re playing to win or just along for the fun\, Clickbait Trivia Night is a great way to spend your Wednesday evening. \nWe’ll see you there!
URL:https://www.crestviewgolf.net/event/wednesday-night-clickbait-trivia-14/2026-12-09/
END:VEVENT
BEGIN:VEVENT
DTSTART;TZID=UTC:20261212T190000
DTEND;TZID=UTC:20261212T210000
DTSTAMP:20260423T120320
CREATED:20260216T212514Z
LAST-MODIFIED:20260302T215157Z
UID:10000422-1797102000-1797109200@www.crestviewgolf.net
SUMMARY:Music on the Range: Matt Osborne
DESCRIPTION:We’re excited to bring back Music on the Range in 2026—an evening music series featuring live entertainment\, great food\, and a welcoming atmosphere at Mulligans Clubhouse Grill. Gather your friends\, grab a table\, and enjoy a night out with talented local musicians. \nPresented by Long Drink \n\nMatt Osborne – Saturday\, December 12 | 7:00–9:00 p.m. (Indoor Event)\n\nMulligans Clubhouse Grill will be serving food and drinks throughout the evening. There is no cost for entry! Reservations are recommended. To reserve your spot\, call Mulligans Clubhouse Grill at (765) 282-8129.
URL:https://www.crestviewgolf.net/event/music-on-the-range-matt-osborne-2/
END:VEVENT
BEGIN:VEVENT
DTSTART;TZID=UTC:20261216T193000
DTEND;TZID=UTC:20261216T213000
DTSTAMP:20260423T120320
CREATED:20260331T133827Z
LAST-MODIFIED:20260331T133827Z
UID:10000466-1797449400-1797456600@www.crestviewgolf.net
SUMMARY:Wednesday Night Clickbait Trivia
DESCRIPTION:Join us at Mulligans Clubhouse Grill every Wednesday for Clickbait Trivia\, hosted by Mikey Mason. It’s the perfect way to unwind\, have some fun\, and test your knowledge with friends! \nTime: 7:30 PM – 9:30 PM\nWhen: Every Wednesday\nWhere: Mulligans Clubhouse Grill \nGather your team\, order your favorite food and drinks\, and get ready for a lively night of trivia\, laughs\, and friendly competition. Whether you’re playing to win or just along for the fun\, Clickbait Trivia Night is a great way to spend your Wednesday evening. \nWe’ll see you there!
URL:https://www.crestviewgolf.net/event/wednesday-night-clickbait-trivia-14/2026-12-16/
END:VEVENT
BEGIN:VEVENT
DTSTART;TZID=UTC:20261223T193000
DTEND;TZID=UTC:20261223T213000
DTSTAMP:20260423T120320
CREATED:20260331T133827Z
LAST-MODIFIED:20260331T133827Z
UID:10000467-1798054200-1798061400@www.crestviewgolf.net
SUMMARY:Wednesday Night Clickbait Trivia
DESCRIPTION:Join us at Mulligans Clubhouse Grill every Wednesday for Clickbait Trivia\, hosted by Mikey Mason. It’s the perfect way to unwind\, have some fun\, and test your knowledge with friends! \nTime: 7:30 PM – 9:30 PM\nWhen: Every Wednesday\nWhere: Mulligans Clubhouse Grill \nGather your team\, order your favorite food and drinks\, and get ready for a lively night of trivia\, laughs\, and friendly competition. Whether you’re playing to win or just along for the fun\, Clickbait Trivia Night is a great way to spend your Wednesday evening. \nWe’ll see you there!
URL:https://www.crestviewgolf.net/event/wednesday-night-clickbait-trivia-14/2026-12-23/
END:VEVENT
BEGIN:VEVENT
DTSTART;TZID=UTC:20261230T193000
DTEND;TZID=UTC:20261230T213000
DTSTAMP:20260423T120320
CREATED:20260331T133827Z
LAST-MODIFIED:20260331T133827Z
UID:10000468-1798659000-1798666200@www.crestviewgolf.net
SUMMARY:Wednesday Night Clickbait Trivia
DESCRIPTION:Join us at Mulligans Clubhouse Grill every Wednesday for Clickbait Trivia\, hosted by Mikey Mason. It’s the perfect way to unwind\, have some fun\, and test your knowledge with friends! \nTime: 7:30 PM – 9:30 PM\nWhen: Every Wednesday\nWhere: Mulligans Clubhouse Grill \nGather your team\, order your favorite food and drinks\, and get ready for a lively night of trivia\, laughs\, and friendly competition. Whether you’re playing to win or just along for the fun\, Clickbait Trivia Night is a great way to spend your Wednesday evening. \nWe’ll see you there!
URL:https://www.crestviewgolf.net/event/wednesday-night-clickbait-trivia-14/2026-12-30/
END:VEVENT
END:VCALENDAR