BEGIN:VCALENDAR
VERSION:2.0
PRODID:-//Crestview Golf Club - ECPv6.15.18//NONSGML v1.0//EN
CALSCALE:GREGORIAN
METHOD:PUBLISH
X-WR-CALNAME:Crestview Golf Club
X-ORIGINAL-URL:https://www.crestviewgolf.net
X-WR-CALDESC:Events for Crestview Golf Club
REFRESH-INTERVAL;VALUE=DURATION:PT1H
X-Robots-Tag:noindex
X-PUBLISHED-TTL:PT1H
BEGIN:VTIMEZONE
TZID:UTC
BEGIN:STANDARD
TZOFFSETFROM:+0000
TZOFFSETTO:+0000
TZNAME:UTC
DTSTART:20250101T000000
END:STANDARD
END:VTIMEZONE
BEGIN:VEVENT
DTSTART;TZID=UTC:20260912T190000
DTEND;TZID=UTC:20260912T210000
DTSTAMP:20260425T120559
CREATED:20260216T212111Z
LAST-MODIFIED:20260302T214533Z
UID:10000420-1789239600-1789246800@www.crestviewgolf.net
SUMMARY:Music on the Range - End of Summer Jam: White Lies & The Half Truth
DESCRIPTION:We’re excited to bring back Music on the Range in 2026—an evening music series featuring live entertainment\, great food\, and a welcoming atmosphere at Mulligans Clubhouse Grill. Gather your friends\, grab a table\, and enjoy a night out with talented local musicians. \n2026 Music on the Range Lineup\nPresented by Long Drink \n\nEnd of Summer Jam: White Lies & The Half Truth – Saturday\, September 12th | 7:00–9:00 p.m. (Outdoor Event)\nClay Arnett Trio – Saturday\, October 17 | 7:00–9:00 p.m. (Indoor Event)\nMVP Project – Saturday\, November 28 | 7:00–9:00 p.m. (Indoor Event)\nMatt Osborne – Saturday\, December 12 | 7:00–9:00 p.m. (Indoor Event)\n\nMulligans Clubhouse Grill will be serving food and drinks throughout the evening. There is no cost for entry! Reservations are recommended. To reserve your spot\, call Mulligans Clubhouse Grill at (765) 282-8129.
URL:https://www.crestviewgolf.net/event/music-on-the-range-end-of-summer-jam-white-lies-the-half-truth/
END:VEVENT
END:VCALENDAR